BEGIN:VCALENDAR
VERSION:2.0
PRODID:-//wp-events-plugin.com//7.2.3.1//EN
BEGIN:VEVENT
UID:1278@enjoyablystudley.co.uk
DTSTART;TZID=Europe/London:20241130T140000
DTEND;TZID=Europe/London:20241130T160000
DTSTAMP:20241129T142940Z
URL:https://enjoyablystudley.co.uk/events/fundraising-bingo-for-arden-food
 -bank-at-studley-parish-centre/
SUMMARY:Fundraising Bingo for Arden Food Bank at Studley Parish Centre
DESCRIPTION:
CATEGORIES:Bingo
END:VEVENT
BEGIN:VTIMEZONE
TZID:Europe/London
X-LIC-LOCATION:Europe/London
BEGIN:STANDARD
DTSTART:20241027T010000
TZOFFSETFROM:+0100
TZOFFSETTO:+0000
TZNAME:GMT
END:STANDARD
END:VTIMEZONE
END:VCALENDAR