BEGIN:VCALENDAR
VERSION:2.0
PRODID:-//wp-events-plugin.com//7.2.3.1//EN
BEGIN:VEVENT
UID:1113@enjoyablystudley.co.uk
DTSTART;TZID=Europe/London:20251006T113000
DTEND;TZID=Europe/London:20251006T133000
DTSTAMP:20240927T102402Z
URL:https://enjoyablystudley.co.uk/events/nosh-and-natter-club-2025-10-06/
SUMMARY:Nosh and Natter Club
DESCRIPTION:Nosh and Natter Club is held on the first Monday of the month a
 t Studley Sports and Social Club at 11:30 onwards.  Join others in your c
 ommunity for a 2 course hot meal and a chat.  Call Barbara to reserve... 
 07771 708151.  £10.
LOCATION:Studley Sports and Social Club\, Eldorado Close\, Studley\, B80 7h
 p\, United Kingdom
GEO:52.273135;-1.900238
X-APPLE-STRUCTURED-LOCATION;VALUE=URI;X-ADDRESS=Eldorado Close\, Studley\, 
 B80 7hp\, United Kingdom;X-APPLE-RADIUS=100;X-TITLE=Studley Sports and Soc
 ial Club:geo:52.273135,-1.900238
END:VEVENT
BEGIN:VTIMEZONE
TZID:Europe/London
X-LIC-LOCATION:Europe/London
BEGIN:DAYLIGHT
DTSTART:20250330T020000
TZOFFSETFROM:+0000
TZOFFSETTO:+0100
TZNAME:BST
END:DAYLIGHT
END:VTIMEZONE
END:VCALENDAR