BEGIN:VCALENDAR
VERSION:2.0
PRODID:-//wp-events-plugin.com//7.2.3.1//EN
BEGIN:VEVENT
UID:1350@enjoyablystudley.co.uk
DTSTART;TZID=Europe/London:20250706T160000
DTEND;TZID=Europe/London:20250706T200000
DTSTAMP:20250704T101438Z
URL:https://enjoyablystudley.co.uk/events/open-mic-at-the-bell-3/
SUMMARY:Open Mic at the Bell
DESCRIPTION:
END:VEVENT
BEGIN:VTIMEZONE
TZID:Europe/London
X-LIC-LOCATION:Europe/London
BEGIN:DAYLIGHT
DTSTART:20250330T020000
TZOFFSETFROM:+0000
TZOFFSETTO:+0100
TZNAME:BST
END:DAYLIGHT
END:VTIMEZONE
END:VCALENDAR