BEGIN:VCALENDAR
VERSION:2.0
PRODID:-//wp-events-plugin.com//7.2.3.1//EN
BEGIN:VEVENT
UID:1211@enjoyablystudley.co.uk
DTSTART;TZID=Europe/London:20250102T110000
DTEND;TZID=Europe/London:20250102T130000
DTSTAMP:20240927T103431Z
URL:https://enjoyablystudley.co.uk/events/warm-welcome-studley-methodist-c
 hurch-2025-01-02/
SUMMARY:Warm Welcome @ Studley Methodist Church
DESCRIPTION:Warm welcome. All welcome 11-1pm Methodist church\, Alcester Ro
 ad
CATEGORIES:Coffee morning
LOCATION:Studley Methodist Church\, Alcester Road\, Studley\, Warwickshire\
 , B80 7NJ\, Ukraine
GEO:52.271485;-1.894171
X-APPLE-STRUCTURED-LOCATION;VALUE=URI;X-ADDRESS=Alcester Road\, Studley\, W
 arwickshire\, B80 7NJ\, Ukraine;X-APPLE-RADIUS=100;X-TITLE=Studley Methodi
 st Church:geo:52.271485,-1.894171
END:VEVENT
BEGIN:VTIMEZONE
TZID:Europe/London
X-LIC-LOCATION:Europe/London
BEGIN:STANDARD
DTSTART:20241027T010000
TZOFFSETFROM:+0100
TZOFFSETTO:+0000
TZNAME:GMT
END:STANDARD
END:VTIMEZONE
END:VCALENDAR